BEGIN:VCALENDAR
VERSION:2.0
PRODID:-//UB-Event
TZID:Europe/Zurich
X-WR-TIMEZONE:Europe/Zurich
CALSCALE:GREGORIAN
BEGIN:VEVENT
SUMMARY:Grade 2 Talk About It Tour 2026 britische Punk-Band
UID:234860
DTSTART;TZID=Europe/Zurich;VALUE=DATE-TIME:20260503T210000
DTEND;TZID=Europe/Zurich;VALUE=DATE-TIME:20260503T230000
LAST-MODIFIED;TZID=Europe/Zurich;VALUE=DATE-TIME:20260403T063833
DTSTAMP;VALUE=DATE-TIME:20260503T210000Z
LOCATION:Mikropol, Nollendorfpl. 5, 10777 Berlin
URL://www.xn--untergrund-blttle-2qb.ch/events/234860/grade-2-talk-about-it-tour-2026-britische-punk-band-mikropol-berlin.html
END:VEVENT
BEGIN:VTIMEZONE
TZID:Europe/Zurich
X-LIC-LOCATION:Europe/Zurich
BEGIN:STANDARD
DTSTART;VALUE=DATE-TIME:20260503T210000
TZNAME:CET
TZOFFSETFROM:+0200
TZOFFSETTO:+0100
END:STANDARD
BEGIN:DAYLIGHT
DTSTART;VALUE=DATE-TIME:20260503T210000
TZNAME:CEST
TZOFFSETFROM:+0100
TZOFFSETTO:+0200
END:DAYLIGHT
BEGIN:STANDARD
DTSTART;VALUE=DATE-TIME:20260503T210000
TZNAME:CET
TZOFFSETFROM:+0200
TZOFFSETTO:+0100
END:STANDARD
END:VTIMEZONE
END:VCALENDAR