BEGIN:VCALENDAR
VERSION:2.0
PRODID:-//UB-Event
TZID:Europe/Zurich
X-WR-TIMEZONE:Europe/Zurich
CALSCALE:GREGORIAN
BEGIN:VEVENT
SUMMARY:CRIPPLED BLACK PHOENIX (UK) w/ Temple Fang
UID:234856
DTSTART;TZID=Europe/Zurich;VALUE=DATE-TIME:20260503T210000
DTEND;TZID=Europe/Zurich;VALUE=DATE-TIME:20260503T230000
LAST-MODIFIED;TZID=Europe/Zurich;VALUE=DATE-TIME:20260403T063832
DTSTAMP;VALUE=DATE-TIME:20260503T210000Z
LOCATION:Petit Bain, Port de la Gare 7, 75013 Paris
URL://www.xn--untergrund-blttle-2qb.ch/events/234856/crippled-black-phoenix-uk-w-temple-fang-petit-bain-paris.html
END:VEVENT
BEGIN:VTIMEZONE
TZID:Europe/Zurich
X-LIC-LOCATION:Europe/Zurich
BEGIN:STANDARD
DTSTART;VALUE=DATE-TIME:20260503T210000
TZNAME:CET
TZOFFSETFROM:+0200
TZOFFSETTO:+0100
END:STANDARD
BEGIN:DAYLIGHT
DTSTART;VALUE=DATE-TIME:20260503T210000
TZNAME:CEST
TZOFFSETFROM:+0100
TZOFFSETTO:+0200
END:DAYLIGHT
BEGIN:STANDARD
DTSTART;VALUE=DATE-TIME:20260503T210000
TZNAME:CET
TZOFFSETFROM:+0200
TZOFFSETTO:+0100
END:STANDARD
END:VTIMEZONE
END:VCALENDAR