BEGIN:VCALENDAR
VERSION:2.0
PRODID:-//UB-Event
TZID:Europe/Zurich
X-WR-TIMEZONE:Europe/Zurich
CALSCALE:GREGORIAN
BEGIN:VEVENT
SUMMARY:KNALLBLECH - 10 Jahre, 10 Städte: Deutschland-Tour 2026 Brassband meets DJ
UID:234803
DTSTART;TZID=Europe/Zurich;VALUE=DATE-TIME:20260502T210000
DTEND;TZID=Europe/Zurich;VALUE=DATE-TIME:20260502T230000
LAST-MODIFIED;TZID=Europe/Zurich;VALUE=DATE-TIME:20260402T063834
DTSTAMP;VALUE=DATE-TIME:20260502T210000Z
LOCATION:New Backstage, Reitknechtstraße 6, 80639 München
URL://www.xn--untergrund-blttle-2qb.ch/events/234803/knallblech-10-jahre-10-staedte-deutschland-tour-2026-brassband-meets-dj-new-backstage-muenchen.html
END:VEVENT
BEGIN:VTIMEZONE
TZID:Europe/Zurich
X-LIC-LOCATION:Europe/Zurich
BEGIN:STANDARD
DTSTART;VALUE=DATE-TIME:20260502T210000
TZNAME:CET
TZOFFSETFROM:+0200
TZOFFSETTO:+0100
END:STANDARD
BEGIN:DAYLIGHT
DTSTART;VALUE=DATE-TIME:20260502T210000
TZNAME:CEST
TZOFFSETFROM:+0100
TZOFFSETTO:+0200
END:DAYLIGHT
BEGIN:STANDARD
DTSTART;VALUE=DATE-TIME:20260502T210000
TZNAME:CET
TZOFFSETFROM:+0200
TZOFFSETTO:+0100
END:STANDARD
END:VTIMEZONE
END:VCALENDAR