BEGIN:VCALENDAR
VERSION:2.0
PRODID:-//UB-Event
TZID:Europe/Zurich
X-WR-TIMEZONE:Europe/Zurich
CALSCALE:GREGORIAN
BEGIN:VEVENT
SUMMARY:DŸSE Fette Gitarrenriffs und Schlagzeugmonstergrooves zwischen Chaos und Kontrolle
UID:234794
DTSTART;TZID=Europe/Zurich;VALUE=DATE-TIME:20260502T210000
DTEND;TZID=Europe/Zurich;VALUE=DATE-TIME:20260502T230000
LAST-MODIFIED;TZID=Europe/Zurich;VALUE=DATE-TIME:20260402T063834
DTSTAMP;VALUE=DATE-TIME:20260502T210000Z
LOCATION:Goldmarks, Charlottenpl. 1, 70173 Stuttgart
URL://www.xn--untergrund-blttle-2qb.ch/events/234794/dyse-fette-gitarrenriffs-und-schlagzeugmonstergrooves-zwischen-chaos-und-kontrolle-goldmarks-stuttgart.html
END:VEVENT
BEGIN:VTIMEZONE
TZID:Europe/Zurich
X-LIC-LOCATION:Europe/Zurich
BEGIN:STANDARD
DTSTART;VALUE=DATE-TIME:20260502T210000
TZNAME:CET
TZOFFSETFROM:+0200
TZOFFSETTO:+0100
END:STANDARD
BEGIN:DAYLIGHT
DTSTART;VALUE=DATE-TIME:20260502T210000
TZNAME:CEST
TZOFFSETFROM:+0100
TZOFFSETTO:+0200
END:DAYLIGHT
BEGIN:STANDARD
DTSTART;VALUE=DATE-TIME:20260502T210000
TZNAME:CET
TZOFFSETFROM:+0200
TZOFFSETTO:+0100
END:STANDARD
END:VTIMEZONE
END:VCALENDAR