BEGIN:VCALENDAR
VERSION:2.0
PRODID:-//UB-Event
TZID:Europe/Zurich
X-WR-TIMEZONE:Europe/Zurich
CALSCALE:GREGORIAN
BEGIN:VEVENT
SUMMARY:Metal Meeting feat.: Iron Savior, Warpath,Midnight Prey, Servants To The Tide
UID:234751
DTSTART;TZID=Europe/Zurich;VALUE=DATE-TIME:20260502T210000
DTEND;TZID=Europe/Zurich;VALUE=DATE-TIME:20260502T230000
LAST-MODIFIED;TZID=Europe/Zurich;VALUE=DATE-TIME:20260402T063833
DTSTAMP;VALUE=DATE-TIME:20260502T210000Z
LOCATION:Markthalle, Klosterwall, 20095 Hamburg
URL://www.xn--untergrund-blttle-2qb.ch/events/234751/metal-meeting-feat-iron-savior-warpath-midnight-prey-servants-to-the-tide-markthalle-hamburg.html
END:VEVENT
BEGIN:VTIMEZONE
TZID:Europe/Zurich
X-LIC-LOCATION:Europe/Zurich
BEGIN:STANDARD
DTSTART;VALUE=DATE-TIME:20260502T210000
TZNAME:CET
TZOFFSETFROM:+0200
TZOFFSETTO:+0100
END:STANDARD
BEGIN:DAYLIGHT
DTSTART;VALUE=DATE-TIME:20260502T210000
TZNAME:CEST
TZOFFSETFROM:+0100
TZOFFSETTO:+0200
END:DAYLIGHT
BEGIN:STANDARD
DTSTART;VALUE=DATE-TIME:20260502T210000
TZNAME:CET
TZOFFSETFROM:+0200
TZOFFSETTO:+0100
END:STANDARD
END:VTIMEZONE
END:VCALENDAR