BEGIN:VCALENDAR
VERSION:2.0
PRODID:-//UB-Event
TZID:Europe/Zurich
X-WR-TIMEZONE:Europe/Zurich
CALSCALE:GREGORIAN
BEGIN:VEVENT
SUMMARY:SHE PAST AWAY is a dark wave / post-punk duo & TOUCH BY TOUCH
UID:234749
DTSTART;TZID=Europe/Zurich;VALUE=DATE-TIME:20260502T210000
DTEND;TZID=Europe/Zurich;VALUE=DATE-TIME:20260502T230000
LAST-MODIFIED;TZID=Europe/Zurich;VALUE=DATE-TIME:20260402T063833
DTSTAMP;VALUE=DATE-TIME:20260502T210000Z
LOCATION:Szene, Hauffgasse 26, 1110 Wien
URL://www.xn--untergrund-blttle-2qb.ch/events/234749/she-past-away-is-a-dark-wave-post-punk-duo-touch-by-touch-szene-wien.html
END:VEVENT
BEGIN:VTIMEZONE
TZID:Europe/Zurich
X-LIC-LOCATION:Europe/Zurich
BEGIN:STANDARD
DTSTART;VALUE=DATE-TIME:20260502T210000
TZNAME:CET
TZOFFSETFROM:+0200
TZOFFSETTO:+0100
END:STANDARD
BEGIN:DAYLIGHT
DTSTART;VALUE=DATE-TIME:20260502T210000
TZNAME:CEST
TZOFFSETFROM:+0100
TZOFFSETTO:+0200
END:DAYLIGHT
BEGIN:STANDARD
DTSTART;VALUE=DATE-TIME:20260502T210000
TZNAME:CET
TZOFFSETFROM:+0200
TZOFFSETTO:+0100
END:STANDARD
END:VTIMEZONE
END:VCALENDAR