BEGIN:VCALENDAR
VERSION:2.0
PRODID:-//UB-Event
TZID:Europe/Zurich
X-WR-TIMEZONE:Europe/Zurich
CALSCALE:GREGORIAN
BEGIN:VEVENT
SUMMARY:Victorius – Tour of the Strong 2026 & Support: TBA
UID:234735
DTSTART;TZID=Europe/Zurich;VALUE=DATE-TIME:20260502T210000
DTEND;TZID=Europe/Zurich;VALUE=DATE-TIME:20260502T230000
LAST-MODIFIED;TZID=Europe/Zurich;VALUE=DATE-TIME:20260402T063833
DTSTAMP;VALUE=DATE-TIME:20260502T210000Z
LOCATION:Hellraiser, Werkstättenstraße 4, 04319 Leipzig
URL://www.xn--untergrund-blttle-2qb.ch/events/234735/victorius-tour-of-the-strong-2026-support-tba-hellraiser-leipzig.html
END:VEVENT
BEGIN:VTIMEZONE
TZID:Europe/Zurich
X-LIC-LOCATION:Europe/Zurich
BEGIN:STANDARD
DTSTART;VALUE=DATE-TIME:20260502T210000
TZNAME:CET
TZOFFSETFROM:+0200
TZOFFSETTO:+0100
END:STANDARD
BEGIN:DAYLIGHT
DTSTART;VALUE=DATE-TIME:20260502T210000
TZNAME:CEST
TZOFFSETFROM:+0100
TZOFFSETTO:+0200
END:DAYLIGHT
BEGIN:STANDARD
DTSTART;VALUE=DATE-TIME:20260502T210000
TZNAME:CET
TZOFFSETFROM:+0200
TZOFFSETTO:+0100
END:STANDARD
END:VTIMEZONE
END:VCALENDAR