BEGIN:VCALENDAR
VERSION:2.0
PRODID:-//UB-Event
TZID:Europe/Zurich
X-WR-TIMEZONE:Europe/Zurich
CALSCALE:GREGORIAN
BEGIN:VEVENT
SUMMARY:Generation Y Punk – Update einer Subkultur Filmvorführung „Von Sozialen
UID:234717
DTSTART;TZID=Europe/Zurich;VALUE=DATE-TIME:20260427T210000
DTEND;TZID=Europe/Zurich;VALUE=DATE-TIME:20260427T230000
LAST-MODIFIED;TZID=Europe/Zurich;VALUE=DATE-TIME:20260402T063829
DTSTAMP;VALUE=DATE-TIME:20260427T210000Z
LOCATION:Trash Chic, Wiersbergstraße 31, 51103 Köln
URL://www.xn--untergrund-blttle-2qb.ch/events/234717/generation-y-punk-update-einer-subkultur-filmvorfuehrung-von-sozialen-trash-chic-koeln.html
END:VEVENT
BEGIN:VTIMEZONE
TZID:Europe/Zurich
X-LIC-LOCATION:Europe/Zurich
BEGIN:STANDARD
DTSTART;VALUE=DATE-TIME:20260427T210000
TZNAME:CET
TZOFFSETFROM:+0200
TZOFFSETTO:+0100
END:STANDARD
BEGIN:DAYLIGHT
DTSTART;VALUE=DATE-TIME:20260427T210000
TZNAME:CEST
TZOFFSETFROM:+0100
TZOFFSETTO:+0200
END:DAYLIGHT
BEGIN:STANDARD
DTSTART;VALUE=DATE-TIME:20260427T210000
TZNAME:CET
TZOFFSETFROM:+0200
TZOFFSETTO:+0100
END:STANDARD
END:VTIMEZONE
END:VCALENDAR