BEGIN:VCALENDAR
VERSION:2.0
PRODID:-//UB-Event
TZID:Europe/Zurich
X-WR-TIMEZONE:Europe/Zurich
CALSCALE:GREGORIAN
BEGIN:VEVENT
SUMMARY:Mayday Demo
UID:234710
DTSTART;TZID=Europe/Zurich;VALUE=DATE-TIME:20260501T150000
DTEND;TZID=Europe/Zurich;VALUE=DATE-TIME:20260501T170000
LAST-MODIFIED;TZID=Europe/Zurich;VALUE=DATE-TIME:20260403T055822
DTSTAMP;VALUE=DATE-TIME:20260501T150000Z
LOCATION:Christian Broda Platz, Christian-Broda-Platz, 1060 Wien
URL://www.xn--untergrund-blttle-2qb.ch/events/234710/mayday-demo-christian-broda-platz-wien.html
END:VEVENT
BEGIN:VTIMEZONE
TZID:Europe/Zurich
X-LIC-LOCATION:Europe/Zurich
BEGIN:STANDARD
DTSTART;VALUE=DATE-TIME:20260501T150000
TZNAME:CET
TZOFFSETFROM:+0200
TZOFFSETTO:+0100
END:STANDARD
BEGIN:DAYLIGHT
DTSTART;VALUE=DATE-TIME:20260501T150000
TZNAME:CEST
TZOFFSETFROM:+0100
TZOFFSETTO:+0200
END:DAYLIGHT
BEGIN:STANDARD
DTSTART;VALUE=DATE-TIME:20260501T150000
TZNAME:CET
TZOFFSETFROM:+0200
TZOFFSETTO:+0100
END:STANDARD
END:VTIMEZONE
END:VCALENDAR