BEGIN:VCALENDAR
VERSION:2.0
PRODID:-//UB-Event
TZID:Europe/Zurich
X-WR-TIMEZONE:Europe/Zurich
CALSCALE:GREGORIAN
BEGIN:VEVENT
SUMMARY:Mütter*Aktionstage: Lesung „Mothering – Subversive Fürsorge als radikale Praxis“
UID:234693
DTSTART;TZID=Europe/Zurich;VALUE=DATE-TIME:20260509T150000
DTEND;TZID=Europe/Zurich;VALUE=DATE-TIME:20260509T170000
LAST-MODIFIED;TZID=Europe/Zurich;VALUE=DATE-TIME:20260402T062039
DTSTAMP;VALUE=DATE-TIME:20260509T150000Z
LOCATION:MONAliesA, Bernhard-Göring-Straße 152, 04277 Leipzig
URL://www.xn--untergrund-blttle-2qb.ch/events/234693/muetter-aktionstage-lesung-mothering-subversive-fuersorge-als-radikale-praxis-monaliesa-leipzig.html
END:VEVENT
BEGIN:VTIMEZONE
TZID:Europe/Zurich
X-LIC-LOCATION:Europe/Zurich
BEGIN:STANDARD
DTSTART;VALUE=DATE-TIME:20260509T150000
TZNAME:CET
TZOFFSETFROM:+0200
TZOFFSETTO:+0100
END:STANDARD
BEGIN:DAYLIGHT
DTSTART;VALUE=DATE-TIME:20260509T150000
TZNAME:CEST
TZOFFSETFROM:+0100
TZOFFSETTO:+0200
END:DAYLIGHT
BEGIN:STANDARD
DTSTART;VALUE=DATE-TIME:20260509T150000
TZNAME:CET
TZOFFSETFROM:+0200
TZOFFSETTO:+0100
END:STANDARD
END:VTIMEZONE
END:VCALENDAR