BEGIN:VCALENDAR
VERSION:2.0
PRODID:-//UB-Event
TZID:Europe/Zurich
X-WR-TIMEZONE:Europe/Zurich
CALSCALE:GREGORIAN
BEGIN:VEVENT
SUMMARY:Raddemo: Kein Ausbau der A5!
UID:234683
DTSTART;TZID=Europe/Zurich;VALUE=DATE-TIME:20260510T140000
DTEND;TZID=Europe/Zurich;VALUE=DATE-TIME:20260510T160000
LAST-MODIFIED;TZID=Europe/Zurich;VALUE=DATE-TIME:20260402T061158
DTSTAMP;VALUE=DATE-TIME:20260510T140000Z
LOCATION:Alte Oper, Opernplatz 1, 60313 Frankfurt am Main
URL://www.xn--untergrund-blttle-2qb.ch/events/234683/raddemo-kein-ausbau-der-a5-alte-oper-frankfurt-am-main.html
END:VEVENT
BEGIN:VTIMEZONE
TZID:Europe/Zurich
X-LIC-LOCATION:Europe/Zurich
BEGIN:STANDARD
DTSTART;VALUE=DATE-TIME:20260510T140000
TZNAME:CET
TZOFFSETFROM:+0200
TZOFFSETTO:+0100
END:STANDARD
BEGIN:DAYLIGHT
DTSTART;VALUE=DATE-TIME:20260510T140000
TZNAME:CEST
TZOFFSETFROM:+0100
TZOFFSETTO:+0200
END:DAYLIGHT
BEGIN:STANDARD
DTSTART;VALUE=DATE-TIME:20260510T140000
TZNAME:CET
TZOFFSETFROM:+0200
TZOFFSETTO:+0100
END:STANDARD
END:VTIMEZONE
END:VCALENDAR