BEGIN:VCALENDAR
VERSION:2.0
PRODID:-//UB-Event
TZID:Europe/Zurich
X-WR-TIMEZONE:Europe/Zurich
CALSCALE:GREGORIAN
BEGIN:VEVENT
SUMMARY:Feierabendführung im Geschichtsort Adlerwerke
UID:234681
DTSTART;TZID=Europe/Zurich;VALUE=DATE-TIME:20260507T173000
DTEND;TZID=Europe/Zurich;VALUE=DATE-TIME:20260507T193000
LAST-MODIFIED;TZID=Europe/Zurich;VALUE=DATE-TIME:20260402T061146
DTSTAMP;VALUE=DATE-TIME:20260507T173000Z
LOCATION:Geschichtsort Adlerwerke, Kleyerstraße, 60326 Frankfurt am Main
URL://www.xn--untergrund-blttle-2qb.ch/events/234681/feierabendfuehrung-im-geschichtsort-adlerwerke-geschichtsort-adlerwerke-frankfurt-am-main.html
END:VEVENT
BEGIN:VTIMEZONE
TZID:Europe/Zurich
X-LIC-LOCATION:Europe/Zurich
BEGIN:STANDARD
DTSTART;VALUE=DATE-TIME:20260507T173000
TZNAME:CET
TZOFFSETFROM:+0200
TZOFFSETTO:+0100
END:STANDARD
BEGIN:DAYLIGHT
DTSTART;VALUE=DATE-TIME:20260507T173000
TZNAME:CEST
TZOFFSETFROM:+0100
TZOFFSETTO:+0200
END:DAYLIGHT
BEGIN:STANDARD
DTSTART;VALUE=DATE-TIME:20260507T173000
TZNAME:CET
TZOFFSETFROM:+0200
TZOFFSETTO:+0100
END:STANDARD
END:VTIMEZONE
END:VCALENDAR