BEGIN:VCALENDAR
VERSION:2.0
PRODID:-//UB-Event
TZID:Europe/Zurich
X-WR-TIMEZONE:Europe/Zurich
CALSCALE:GREGORIAN
BEGIN:VEVENT
SUMMARY:Outta Pocket (USA) Hold my own (USA) Cold Stress (FR) uvm
UID:234644
DTSTART;TZID=Europe/Zurich;VALUE=DATE-TIME:20260525T173000
DTEND;TZID=Europe/Zurich;VALUE=DATE-TIME:20260525T193000
LAST-MODIFIED;TZID=Europe/Zurich;VALUE=DATE-TIME:20260402T060329
DTSTAMP;VALUE=DATE-TIME:20260525T173000Z
LOCATION:Dynamo (Werk 21), Wasserwerkstrasse 21, 8006 Zürich
URL://www.xn--untergrund-blttle-2qb.ch/events/234644/outta-pocket-usa-hold-my-own-usa-cold-stress-fr-uvm-dynamo-werk-21-zuerich.html
END:VEVENT
BEGIN:VTIMEZONE
TZID:Europe/Zurich
X-LIC-LOCATION:Europe/Zurich
BEGIN:STANDARD
DTSTART;VALUE=DATE-TIME:20260525T173000
TZNAME:CET
TZOFFSETFROM:+0200
TZOFFSETTO:+0100
END:STANDARD
BEGIN:DAYLIGHT
DTSTART;VALUE=DATE-TIME:20260525T173000
TZNAME:CEST
TZOFFSETFROM:+0100
TZOFFSETTO:+0200
END:DAYLIGHT
BEGIN:STANDARD
DTSTART;VALUE=DATE-TIME:20260525T173000
TZNAME:CET
TZOFFSETFROM:+0200
TZOFFSETTO:+0100
END:STANDARD
END:VTIMEZONE
END:VCALENDAR