BEGIN:VCALENDAR
VERSION:2.0
PRODID:-//UB-Event
TZID:Europe/Zurich
X-WR-TIMEZONE:Europe/Zurich
CALSCALE:GREGORIAN
BEGIN:VEVENT
SUMMARY:BEES MADE HONEY IN THE VEIN TREE & LIGHTLESS & A GHOST IN RAGS
UID:234547
DTSTART;TZID=Europe/Zurich;VALUE=DATE-TIME:20260529T200000
DTEND;TZID=Europe/Zurich;VALUE=DATE-TIME:20260529T220000
LAST-MODIFIED;TZID=Europe/Zurich;VALUE=DATE-TIME:20260402T054838
DTSTAMP;VALUE=DATE-TIME:20260529T200000Z
LOCATION:P8, Schauenburgstraße 5, 76135 Karlsruhe
URL://www.xn--untergrund-blttle-2qb.ch/events/234547/bees-made-honey-in-the-vein-tree-lightless-a-ghost-in-rags-p8-karlsruhe.html
END:VEVENT
BEGIN:VTIMEZONE
TZID:Europe/Zurich
X-LIC-LOCATION:Europe/Zurich
BEGIN:STANDARD
DTSTART;VALUE=DATE-TIME:20260529T200000
TZNAME:CET
TZOFFSETFROM:+0200
TZOFFSETTO:+0100
END:STANDARD
BEGIN:DAYLIGHT
DTSTART;VALUE=DATE-TIME:20260529T200000
TZNAME:CEST
TZOFFSETFROM:+0100
TZOFFSETTO:+0200
END:DAYLIGHT
BEGIN:STANDARD
DTSTART;VALUE=DATE-TIME:20260529T200000
TZNAME:CET
TZOFFSETFROM:+0200
TZOFFSETTO:+0100
END:STANDARD
END:VTIMEZONE
END:VCALENDAR