BEGIN:VCALENDAR
VERSION:2.0
PRODID:-//UB-Event
TZID:Europe/Zurich
X-WR-TIMEZONE:Europe/Zurich
CALSCALE:GREGORIAN
BEGIN:VEVENT
SUMMARY:PEMPTI KASTA & NO FUTURE & TRIGGER KID AND THE ENDING MAN Street Punk mit
UID:234541
DTSTART;TZID=Europe/Zurich;VALUE=DATE-TIME:20260429T210000
DTEND;TZID=Europe/Zurich;VALUE=DATE-TIME:20260429T230000
LAST-MODIFIED;TZID=Europe/Zurich;VALUE=DATE-TIME:20260415T063820
DTSTAMP;VALUE=DATE-TIME:20260429T210000Z
LOCATION:Goldgrube, Eisenschmiede 85, 34127 Kassel
URL://www.xn--untergrund-blttle-2qb.ch/events/234541/pempti-kasta-no-future-trigger-kid-and-the-ending-man-street-punk-mit-goldgrube-kassel.html
END:VEVENT
BEGIN:VTIMEZONE
TZID:Europe/Zurich
X-LIC-LOCATION:Europe/Zurich
BEGIN:STANDARD
DTSTART;VALUE=DATE-TIME:20260429T210000
TZNAME:CET
TZOFFSETFROM:+0200
TZOFFSETTO:+0100
END:STANDARD
BEGIN:DAYLIGHT
DTSTART;VALUE=DATE-TIME:20260429T210000
TZNAME:CEST
TZOFFSETFROM:+0100
TZOFFSETTO:+0200
END:DAYLIGHT
BEGIN:STANDARD
DTSTART;VALUE=DATE-TIME:20260429T210000
TZNAME:CET
TZOFFSETFROM:+0200
TZOFFSETTO:+0100
END:STANDARD
END:VTIMEZONE
END:VCALENDAR