BEGIN:VCALENDAR
VERSION:2.0
PRODID:-//UB-Event
TZID:Europe/Zurich
X-WR-TIMEZONE:Europe/Zurich
CALSCALE:GREGORIAN
BEGIN:VEVENT
SUMMARY:Diskussion im Sub: Theorie und Praxis
UID:234539
DTSTART;TZID=Europe/Zurich;VALUE=DATE-TIME:20260428T180000
DTEND;TZID=Europe/Zurich;VALUE=DATE-TIME:20260428T200000
LAST-MODIFIED;TZID=Europe/Zurich;VALUE=DATE-TIME:20260416T055704
DTSTAMP;VALUE=DATE-TIME:20260428T180000Z
LOCATION:SUB, Müllner Hauptstraße 11, 5020 Salzburg
URL://www.xn--untergrund-blttle-2qb.ch/events/234539/diskussion-im-sub-theorie-und-praxis-sub-salzburg.html
END:VEVENT
BEGIN:VTIMEZONE
TZID:Europe/Zurich
X-LIC-LOCATION:Europe/Zurich
BEGIN:STANDARD
DTSTART;VALUE=DATE-TIME:20260428T180000
TZNAME:CET
TZOFFSETFROM:+0200
TZOFFSETTO:+0100
END:STANDARD
BEGIN:DAYLIGHT
DTSTART;VALUE=DATE-TIME:20260428T180000
TZNAME:CEST
TZOFFSETFROM:+0100
TZOFFSETTO:+0200
END:DAYLIGHT
BEGIN:STANDARD
DTSTART;VALUE=DATE-TIME:20260428T180000
TZNAME:CET
TZOFFSETFROM:+0200
TZOFFSETTO:+0100
END:STANDARD
END:VTIMEZONE
END:VCALENDAR