BEGIN:VCALENDAR
VERSION:2.0
PRODID:-//UB-Event
TZID:Europe/Zurich
X-WR-TIMEZONE:Europe/Zurich
CALSCALE:GREGORIAN
BEGIN:VEVENT
SUMMARY:offenes Gruppentreffen
UID:234510
DTSTART;TZID=Europe/Zurich;VALUE=DATE-TIME:20260518T190000
DTEND;TZID=Europe/Zurich;VALUE=DATE-TIME:20260518T210000
LAST-MODIFIED;TZID=Europe/Zurich;VALUE=DATE-TIME:20260417T055018
DTSTAMP;VALUE=DATE-TIME:20260518T190000Z
LOCATION:DIDF ev., Rottstrasse 30, 44793 Bochum
URL://www.xn--untergrund-blttle-2qb.ch/events/234510/offenes-gruppentreffen-didf-ev-bochum.html
END:VEVENT
BEGIN:VTIMEZONE
TZID:Europe/Zurich
X-LIC-LOCATION:Europe/Zurich
BEGIN:STANDARD
DTSTART;VALUE=DATE-TIME:20260518T190000
TZNAME:CET
TZOFFSETFROM:+0200
TZOFFSETTO:+0100
END:STANDARD
BEGIN:DAYLIGHT
DTSTART;VALUE=DATE-TIME:20260518T190000
TZNAME:CEST
TZOFFSETFROM:+0100
TZOFFSETTO:+0200
END:DAYLIGHT
BEGIN:STANDARD
DTSTART;VALUE=DATE-TIME:20260518T190000
TZNAME:CET
TZOFFSETFROM:+0200
TZOFFSETTO:+0100
END:STANDARD
END:VTIMEZONE
END:VCALENDAR