BEGIN:VCALENDAR
VERSION:2.0
PRODID:-//UB-Event
TZID:Europe/Zurich
X-WR-TIMEZONE:Europe/Zurich
CALSCALE:GREGORIAN
BEGIN:VEVENT
SUMMARY:Schreib-Retreat mit der ≠igfem!
UID:234498
DTSTART;TZID=Europe/Zurich;VALUE=DATE-TIME:20260604T090000
DTEND;TZID=Europe/Zurich;VALUE=DATE-TIME:20260604T110000
LAST-MODIFIED;TZID=Europe/Zurich;VALUE=DATE-TIME:20260416T193451
DTSTAMP;VALUE=DATE-TIME:20260604T090000Z
LOCATION:Nationalpark Gesäuse, Weng 2, 8911 Admont
URL://www.xn--untergrund-blttle-2qb.ch/events/234498/schreib-retreat-mit-der-igfem-nationalpark-gesaeuse-admont.html
END:VEVENT
BEGIN:VTIMEZONE
TZID:Europe/Zurich
X-LIC-LOCATION:Europe/Zurich
BEGIN:STANDARD
DTSTART;VALUE=DATE-TIME:20260604T090000
TZNAME:CET
TZOFFSETFROM:+0200
TZOFFSETTO:+0100
END:STANDARD
BEGIN:DAYLIGHT
DTSTART;VALUE=DATE-TIME:20260604T090000
TZNAME:CEST
TZOFFSETFROM:+0100
TZOFFSETTO:+0200
END:DAYLIGHT
BEGIN:STANDARD
DTSTART;VALUE=DATE-TIME:20260604T090000
TZNAME:CET
TZOFFSETFROM:+0200
TZOFFSETTO:+0100
END:STANDARD
END:VTIMEZONE
END:VCALENDAR