BEGIN:VCALENDAR
VERSION:2.0
PRODID:-//UB-Event
TZID:Europe/Zurich
X-WR-TIMEZONE:Europe/Zurich
CALSCALE:GREGORIAN
BEGIN:VEVENT
SUMMARY:chocolate remix
UID:234482
DTSTART;TZID=Europe/Zurich;VALUE=DATE-TIME:20260604T200000
DTEND;TZID=Europe/Zurich;VALUE=DATE-TIME:20260604T220000
LAST-MODIFIED;TZID=Europe/Zurich;VALUE=DATE-TIME:20260415T060201
DTSTAMP;VALUE=DATE-TIME:20260604T200000Z
LOCATION:Dachstock, Neubrückstrasse 8, 3012 Bern
URL://www.xn--untergrund-blttle-2qb.ch/events/234482/chocolate-remix-dachstock-bern.html
END:VEVENT
BEGIN:VTIMEZONE
TZID:Europe/Zurich
X-LIC-LOCATION:Europe/Zurich
BEGIN:STANDARD
DTSTART;VALUE=DATE-TIME:20260604T200000
TZNAME:CET
TZOFFSETFROM:+0200
TZOFFSETTO:+0100
END:STANDARD
BEGIN:DAYLIGHT
DTSTART;VALUE=DATE-TIME:20260604T200000
TZNAME:CEST
TZOFFSETFROM:+0100
TZOFFSETTO:+0200
END:DAYLIGHT
BEGIN:STANDARD
DTSTART;VALUE=DATE-TIME:20260604T200000
TZNAME:CET
TZOFFSETFROM:+0200
TZOFFSETTO:+0100
END:STANDARD
END:VTIMEZONE
END:VCALENDAR