BEGIN:VCALENDAR
VERSION:2.0
PRODID:-//UB-Event
TZID:Europe/Zurich
X-WR-TIMEZONE:Europe/Zurich
CALSCALE:GREGORIAN
BEGIN:VEVENT
SUMMARY:Geh Denken!: Wer darf erinnern? Lesbische Gedenkpraktiken in der DDR
UID:234480
DTSTART;TZID=Europe/Zurich;VALUE=DATE-TIME:20260617T190000
DTEND;TZID=Europe/Zurich;VALUE=DATE-TIME:20260617T210000
LAST-MODIFIED;TZID=Europe/Zurich;VALUE=DATE-TIME:20260415T055844
DTSTAMP;VALUE=DATE-TIME:20260617T190000Z
LOCATION:Depot – Kunst und Diskussion, Depot – Kunst und Diskussion, Breite Gasse 3, 1070 Wien, 1070 Wien
URL://www.xn--untergrund-blttle-2qb.ch/events/234480/geh-denken-wer-darf-erinnern-lesbische-gedenkpraktiken-in-der-ddr-depot-kunst-und-diskussion-wien.html
END:VEVENT
BEGIN:VTIMEZONE
TZID:Europe/Zurich
X-LIC-LOCATION:Europe/Zurich
BEGIN:STANDARD
DTSTART;VALUE=DATE-TIME:20260617T190000
TZNAME:CET
TZOFFSETFROM:+0200
TZOFFSETTO:+0100
END:STANDARD
BEGIN:DAYLIGHT
DTSTART;VALUE=DATE-TIME:20260617T190000
TZNAME:CEST
TZOFFSETFROM:+0100
TZOFFSETTO:+0200
END:DAYLIGHT
BEGIN:STANDARD
DTSTART;VALUE=DATE-TIME:20260617T190000
TZNAME:CET
TZOFFSETFROM:+0200
TZOFFSETTO:+0100
END:STANDARD
END:VTIMEZONE
END:VCALENDAR