BEGIN:VCALENDAR
VERSION:2.0
PRODID:-//UB-Event
TZID:Europe/Zurich
X-WR-TIMEZONE:Europe/Zurich
CALSCALE:GREGORIAN
BEGIN:VEVENT
SUMMARY:LOTLab: Salon Unfertig Vol. 3 - Dream your future!
UID:234479
DTSTART;TZID=Europe/Zurich;VALUE=DATE-TIME:20260428T190000
DTEND;TZID=Europe/Zurich;VALUE=DATE-TIME:20260428T210000
LAST-MODIFIED;TZID=Europe/Zurich;VALUE=DATE-TIME:20260415T055830
DTSTAMP;VALUE=DATE-TIME:20260428T190000Z
LOCATION:Das LOT, Absberggasse 31, 1100 Wien
URL://www.xn--untergrund-blttle-2qb.ch/events/234479/lotlab-salon-unfertig-vol-3-dream-your-future-das-lot-wien.html
END:VEVENT
BEGIN:VTIMEZONE
TZID:Europe/Zurich
X-LIC-LOCATION:Europe/Zurich
BEGIN:STANDARD
DTSTART;VALUE=DATE-TIME:20260428T190000
TZNAME:CET
TZOFFSETFROM:+0200
TZOFFSETTO:+0100
END:STANDARD
BEGIN:DAYLIGHT
DTSTART;VALUE=DATE-TIME:20260428T190000
TZNAME:CEST
TZOFFSETFROM:+0100
TZOFFSETTO:+0200
END:DAYLIGHT
BEGIN:STANDARD
DTSTART;VALUE=DATE-TIME:20260428T190000
TZNAME:CET
TZOFFSETFROM:+0200
TZOFFSETTO:+0100
END:STANDARD
END:VTIMEZONE
END:VCALENDAR