BEGIN:VCALENDAR
VERSION:2.0
PRODID:-//UB-Event
TZID:Europe/Zurich
X-WR-TIMEZONE:Europe/Zurich
CALSCALE:GREGORIAN
BEGIN:VEVENT
SUMMARY:Literarische Sprechstunde
UID:234432
DTSTART;TZID=Europe/Zurich;VALUE=DATE-TIME:20260504T180000
DTEND;TZID=Europe/Zurich;VALUE=DATE-TIME:20260504T200000
LAST-MODIFIED;TZID=Europe/Zurich;VALUE=DATE-TIME:20260403T055022
DTSTAMP;VALUE=DATE-TIME:20260504T180000Z
LOCATION:atelier 4630, Gerberstrasse 15, 44787 Bochum
URL://www.xn--untergrund-blttle-2qb.ch/events/234432/literarische-sprechstunde-atelier-4630-bochum.html
END:VEVENT
BEGIN:VTIMEZONE
TZID:Europe/Zurich
X-LIC-LOCATION:Europe/Zurich
BEGIN:STANDARD
DTSTART;VALUE=DATE-TIME:20260504T180000
TZNAME:CET
TZOFFSETFROM:+0200
TZOFFSETTO:+0100
END:STANDARD
BEGIN:DAYLIGHT
DTSTART;VALUE=DATE-TIME:20260504T180000
TZNAME:CEST
TZOFFSETFROM:+0100
TZOFFSETTO:+0200
END:DAYLIGHT
BEGIN:STANDARD
DTSTART;VALUE=DATE-TIME:20260504T180000
TZNAME:CET
TZOFFSETFROM:+0200
TZOFFSETTO:+0100
END:STANDARD
END:VTIMEZONE
END:VCALENDAR