BEGIN:VCALENDAR
VERSION:2.0
PRODID:-//UB-Event
TZID:Europe/Zurich
X-WR-TIMEZONE:Europe/Zurich
CALSCALE:GREGORIAN
BEGIN:VEVENT
SUMMARY:Lost in Devotion Metal Fest Vol. 1: Dust Bolt / Thola / Lotrify
UID:234422
DTSTART;TZID=Europe/Zurich;VALUE=DATE-TIME:20260530T210000
DTEND;TZID=Europe/Zurich;VALUE=DATE-TIME:20260530T230000
LAST-MODIFIED;TZID=Europe/Zurich;VALUE=DATE-TIME:20260415T055519
DTSTAMP;VALUE=DATE-TIME:20260530T210000Z
LOCATION:Südpol, Arsenalstrasse 28, 6011 Kriens
URL://www.xn--untergrund-blttle-2qb.ch/events/234422/lost-in-devotion-metal-fest-vol-1-dust-bolt-thola-lotrify-suedpol-kriens.html
END:VEVENT
BEGIN:VTIMEZONE
TZID:Europe/Zurich
X-LIC-LOCATION:Europe/Zurich
BEGIN:STANDARD
DTSTART;VALUE=DATE-TIME:20260530T210000
TZNAME:CET
TZOFFSETFROM:+0200
TZOFFSETTO:+0100
END:STANDARD
BEGIN:DAYLIGHT
DTSTART;VALUE=DATE-TIME:20260530T210000
TZNAME:CEST
TZOFFSETFROM:+0100
TZOFFSETTO:+0200
END:DAYLIGHT
BEGIN:STANDARD
DTSTART;VALUE=DATE-TIME:20260530T210000
TZNAME:CET
TZOFFSETFROM:+0200
TZOFFSETTO:+0100
END:STANDARD
END:VTIMEZONE
END:VCALENDAR