BEGIN:VCALENDAR
VERSION:2.0
PRODID:-//UB-Event
TZID:Europe/Zurich
X-WR-TIMEZONE:Europe/Zurich
CALSCALE:GREGORIAN
BEGIN:VEVENT
SUMMARY:Veganes DIY Picknick
UID:234421
DTSTART;TZID=Europe/Zurich;VALUE=DATE-TIME:20260503T130000
DTEND;TZID=Europe/Zurich;VALUE=DATE-TIME:20260503T150000
LAST-MODIFIED;TZID=Europe/Zurich;VALUE=DATE-TIME:20260403T055021
DTSTAMP;VALUE=DATE-TIME:20260503T130000Z
LOCATION:Soziales Zentrum, Josephstrasse 2, 44791 Bochum
URL://www.xn--untergrund-blttle-2qb.ch/events/234421/veganes-diy-picknick-soziales-zentrum-bochum.html
END:VEVENT
BEGIN:VTIMEZONE
TZID:Europe/Zurich
X-LIC-LOCATION:Europe/Zurich
BEGIN:STANDARD
DTSTART;VALUE=DATE-TIME:20260503T130000
TZNAME:CET
TZOFFSETFROM:+0200
TZOFFSETTO:+0100
END:STANDARD
BEGIN:DAYLIGHT
DTSTART;VALUE=DATE-TIME:20260503T130000
TZNAME:CEST
TZOFFSETFROM:+0100
TZOFFSETTO:+0200
END:DAYLIGHT
BEGIN:STANDARD
DTSTART;VALUE=DATE-TIME:20260503T130000
TZNAME:CET
TZOFFSETFROM:+0200
TZOFFSETTO:+0100
END:STANDARD
END:VTIMEZONE
END:VCALENDAR