BEGIN:VCALENDAR
VERSION:2.0
PRODID:-//UB-Event
TZID:Europe/Zurich
X-WR-TIMEZONE:Europe/Zurich
CALSCALE:GREGORIAN
BEGIN:VEVENT
SUMMARY:Carte Blanche A Yvan Ischer
UID:234394
DTSTART;TZID=Europe/Zurich;VALUE=DATE-TIME:20260510T210000
DTEND;TZID=Europe/Zurich;VALUE=DATE-TIME:20260510T230000
LAST-MODIFIED;TZID=Europe/Zurich;VALUE=DATE-TIME:20260415T055517
DTSTAMP;VALUE=DATE-TIME:20260510T210000Z
LOCATION:La Spirale, Place du Petit-Saint-Jean 39, 1700 Fribourg
URL://www.xn--untergrund-blttle-2qb.ch/events/234394/carte-blanche-a-yvan-ischer-la-spirale-fribourg.html
END:VEVENT
BEGIN:VTIMEZONE
TZID:Europe/Zurich
X-LIC-LOCATION:Europe/Zurich
BEGIN:STANDARD
DTSTART;VALUE=DATE-TIME:20260510T210000
TZNAME:CET
TZOFFSETFROM:+0200
TZOFFSETTO:+0100
END:STANDARD
BEGIN:DAYLIGHT
DTSTART;VALUE=DATE-TIME:20260510T210000
TZNAME:CEST
TZOFFSETFROM:+0100
TZOFFSETTO:+0200
END:DAYLIGHT
BEGIN:STANDARD
DTSTART;VALUE=DATE-TIME:20260510T210000
TZNAME:CET
TZOFFSETFROM:+0200
TZOFFSETTO:+0100
END:STANDARD
END:VTIMEZONE
END:VCALENDAR