BEGIN:VCALENDAR
VERSION:2.0
PRODID:-//UB-Event
TZID:Europe/Zurich
X-WR-TIMEZONE:Europe/Zurich
CALSCALE:GREGORIAN
BEGIN:VEVENT
SUMMARY:Spirit Of Soul The Finest Of Black Music Von Motown bis Modern Funk & Soul in
UID:234354
DTSTART;TZID=Europe/Zurich;VALUE=DATE-TIME:20260430T210000
DTEND;TZID=Europe/Zurich;VALUE=DATE-TIME:20260430T230000
LAST-MODIFIED;TZID=Europe/Zurich;VALUE=DATE-TIME:20260330T063835
DTSTAMP;VALUE=DATE-TIME:20260430T210000Z
LOCATION:Colos-Saal, Roßmarkt 19, 63739 Aschaffenburg
URL://www.xn--untergrund-blttle-2qb.ch/events/234354/spirit-of-soul-the-finest-of-black-music-von-motown-bis-modern-funk-soul-in-colos-saal-aschaffenburg.html
END:VEVENT
BEGIN:VTIMEZONE
TZID:Europe/Zurich
X-LIC-LOCATION:Europe/Zurich
BEGIN:STANDARD
DTSTART;VALUE=DATE-TIME:20260430T210000
TZNAME:CET
TZOFFSETFROM:+0200
TZOFFSETTO:+0100
END:STANDARD
BEGIN:DAYLIGHT
DTSTART;VALUE=DATE-TIME:20260430T210000
TZNAME:CEST
TZOFFSETFROM:+0100
TZOFFSETTO:+0200
END:DAYLIGHT
BEGIN:STANDARD
DTSTART;VALUE=DATE-TIME:20260430T210000
TZNAME:CET
TZOFFSETFROM:+0200
TZOFFSETTO:+0100
END:STANDARD
END:VTIMEZONE
END:VCALENDAR