BEGIN:VCALENDAR
VERSION:2.0
PRODID:-//UB-Event
TZID:Europe/Zurich
X-WR-TIMEZONE:Europe/Zurich
CALSCALE:GREGORIAN
BEGIN:VEVENT
SUMMARY:Tanz in den Mai: Selve, Frank's White Canvas
UID:234353
DTSTART;TZID=Europe/Zurich;VALUE=DATE-TIME:20260430T210000
DTEND;TZID=Europe/Zurich;VALUE=DATE-TIME:20260430T230000
LAST-MODIFIED;TZID=Europe/Zurich;VALUE=DATE-TIME:20260330T063835
DTSTAMP;VALUE=DATE-TIME:20260430T210000Z
LOCATION:Hafen 2, Nordring 129, 63067 Offenbach am Main
URL://www.xn--untergrund-blttle-2qb.ch/events/234353/tanz-in-den-mai-selve-franks-white-canvas-hafen-2-offenbach-am-main.html
END:VEVENT
BEGIN:VTIMEZONE
TZID:Europe/Zurich
X-LIC-LOCATION:Europe/Zurich
BEGIN:STANDARD
DTSTART;VALUE=DATE-TIME:20260430T210000
TZNAME:CET
TZOFFSETFROM:+0200
TZOFFSETTO:+0100
END:STANDARD
BEGIN:DAYLIGHT
DTSTART;VALUE=DATE-TIME:20260430T210000
TZNAME:CEST
TZOFFSETFROM:+0100
TZOFFSETTO:+0200
END:DAYLIGHT
BEGIN:STANDARD
DTSTART;VALUE=DATE-TIME:20260430T210000
TZNAME:CET
TZOFFSETFROM:+0200
TZOFFSETTO:+0100
END:STANDARD
END:VTIMEZONE
END:VCALENDAR