BEGIN:VCALENDAR
VERSION:2.0
PRODID:-//UB-Event
TZID:Europe/Zurich
X-WR-TIMEZONE:Europe/Zurich
CALSCALE:GREGORIAN
BEGIN:VEVENT
SUMMARY:RETARDED (ITA) Geboren aus den Überresten der 90er-Pop-Punk-Pioniere Home
UID:234342
DTSTART;TZID=Europe/Zurich;VALUE=DATE-TIME:20260430T210000
DTEND;TZID=Europe/Zurich;VALUE=DATE-TIME:20260430T230000
LAST-MODIFIED;TZID=Europe/Zurich;VALUE=DATE-TIME:20260330T063835
DTSTAMP;VALUE=DATE-TIME:20260430T210000Z
LOCATION:Trash, Meller Straße 16/18, 49082 Osnabrück
URL://www.xn--untergrund-blttle-2qb.ch/events/234342/retarded-ita-geboren-aus-den-ueberresten-der-90er-pop-punk-pioniere-home-trash-osnabrueck.html
END:VEVENT
BEGIN:VTIMEZONE
TZID:Europe/Zurich
X-LIC-LOCATION:Europe/Zurich
BEGIN:STANDARD
DTSTART;VALUE=DATE-TIME:20260430T210000
TZNAME:CET
TZOFFSETFROM:+0200
TZOFFSETTO:+0100
END:STANDARD
BEGIN:DAYLIGHT
DTSTART;VALUE=DATE-TIME:20260430T210000
TZNAME:CEST
TZOFFSETFROM:+0100
TZOFFSETTO:+0200
END:DAYLIGHT
BEGIN:STANDARD
DTSTART;VALUE=DATE-TIME:20260430T210000
TZNAME:CET
TZOFFSETFROM:+0200
TZOFFSETTO:+0100
END:STANDARD
END:VTIMEZONE
END:VCALENDAR