BEGIN:VCALENDAR
VERSION:2.0
PRODID:-//UB-Event
TZID:Europe/Zurich
X-WR-TIMEZONE:Europe/Zurich
CALSCALE:GREGORIAN
BEGIN:VEVENT
SUMMARY:Pogo in den Mai!= mit LIPTARDS Glam-Punk/Rock'n'Roll, GR-Thessaloniki
UID:234334
DTSTART;TZID=Europe/Zurich;VALUE=DATE-TIME:20260430T210000
DTEND;TZID=Europe/Zurich;VALUE=DATE-TIME:20260430T230000
LAST-MODIFIED;TZID=Europe/Zurich;VALUE=DATE-TIME:20260330T063835
DTSTAMP;VALUE=DATE-TIME:20260430T210000Z
LOCATION:AK47, Kiefernstraße 23, 40233 Düsseldorf
URL://www.xn--untergrund-blttle-2qb.ch/events/234334/pogo-in-den-mai-mit-liptards-glam-punk-rocknroll-gr-thessaloniki-ak47-duesseldorf.html
END:VEVENT
BEGIN:VTIMEZONE
TZID:Europe/Zurich
X-LIC-LOCATION:Europe/Zurich
BEGIN:STANDARD
DTSTART;VALUE=DATE-TIME:20260430T210000
TZNAME:CET
TZOFFSETFROM:+0200
TZOFFSETTO:+0100
END:STANDARD
BEGIN:DAYLIGHT
DTSTART;VALUE=DATE-TIME:20260430T210000
TZNAME:CEST
TZOFFSETFROM:+0100
TZOFFSETTO:+0200
END:DAYLIGHT
BEGIN:STANDARD
DTSTART;VALUE=DATE-TIME:20260430T210000
TZNAME:CET
TZOFFSETFROM:+0200
TZOFFSETTO:+0100
END:STANDARD
END:VTIMEZONE
END:VCALENDAR