BEGIN:VCALENDAR
VERSION:2.0
PRODID:-//UB-Event
TZID:Europe/Zurich
X-WR-TIMEZONE:Europe/Zurich
CALSCALE:GREGORIAN
BEGIN:VEVENT
SUMMARY:Truckfighters Masterflow – Tour 2026 Fuzz-Legenden
UID:234311
DTSTART;TZID=Europe/Zurich;VALUE=DATE-TIME:20260430T210000
DTEND;TZID=Europe/Zurich;VALUE=DATE-TIME:20260430T230000
LAST-MODIFIED;TZID=Europe/Zurich;VALUE=DATE-TIME:20260330T063834
DTSTAMP;VALUE=DATE-TIME:20260430T210000Z
LOCATION:Melkweg, Marnixstraat, 1017 Amsterdam
URL://www.xn--untergrund-blttle-2qb.ch/events/234311/truckfighters-masterflow-tour-2026-fuzz-legenden-melkweg-amsterdam.html
END:VEVENT
BEGIN:VTIMEZONE
TZID:Europe/Zurich
X-LIC-LOCATION:Europe/Zurich
BEGIN:STANDARD
DTSTART;VALUE=DATE-TIME:20260430T210000
TZNAME:CET
TZOFFSETFROM:+0200
TZOFFSETTO:+0100
END:STANDARD
BEGIN:DAYLIGHT
DTSTART;VALUE=DATE-TIME:20260430T210000
TZNAME:CEST
TZOFFSETFROM:+0100
TZOFFSETTO:+0200
END:DAYLIGHT
BEGIN:STANDARD
DTSTART;VALUE=DATE-TIME:20260430T210000
TZNAME:CET
TZOFFSETFROM:+0200
TZOFFSETTO:+0100
END:STANDARD
END:VTIMEZONE
END:VCALENDAR