BEGIN:VCALENDAR
VERSION:2.0
PRODID:-//UB-Event
TZID:Europe/Zurich
X-WR-TIMEZONE:Europe/Zurich
CALSCALE:GREGORIAN
BEGIN:VEVENT
SUMMARY:Taylor Acorn & wilt Moderne pop-punk met scherpe gitaren, sterke hooks en
UID:234301
DTSTART;TZID=Europe/Zurich;VALUE=DATE-TIME:20260428T210000
DTEND;TZID=Europe/Zurich;VALUE=DATE-TIME:20260428T230000
LAST-MODIFIED;TZID=Europe/Zurich;VALUE=DATE-TIME:20260330T063833
DTSTAMP;VALUE=DATE-TIME:20260428T210000Z
LOCATION:Patronaat, Zijlsingel 2, 2013 DN Haarlem
URL://www.xn--untergrund-blttle-2qb.ch/events/234301/taylor-acorn-wilt-moderne-pop-punk-met-scherpe-gitaren-sterke-hooks-en-patronaat-haarlem.html
END:VEVENT
BEGIN:VTIMEZONE
TZID:Europe/Zurich
X-LIC-LOCATION:Europe/Zurich
BEGIN:STANDARD
DTSTART;VALUE=DATE-TIME:20260428T210000
TZNAME:CET
TZOFFSETFROM:+0200
TZOFFSETTO:+0100
END:STANDARD
BEGIN:DAYLIGHT
DTSTART;VALUE=DATE-TIME:20260428T210000
TZNAME:CEST
TZOFFSETFROM:+0100
TZOFFSETTO:+0200
END:DAYLIGHT
BEGIN:STANDARD
DTSTART;VALUE=DATE-TIME:20260428T210000
TZNAME:CET
TZOFFSETFROM:+0200
TZOFFSETTO:+0100
END:STANDARD
END:VTIMEZONE
END:VCALENDAR