BEGIN:VCALENDAR
VERSION:2.0
PRODID:-//UB-Event
TZID:Europe/Zurich
X-WR-TIMEZONE:Europe/Zurich
CALSCALE:GREGORIAN
BEGIN:VEVENT
SUMMARY:RäZeL Café
UID:234288
DTSTART;TZID=Europe/Zurich;VALUE=DATE-TIME:20260426T130000
DTEND;TZID=Europe/Zurich;VALUE=DATE-TIME:20260426T150000
LAST-MODIFIED;TZID=Europe/Zurich;VALUE=DATE-TIME:20260415T055302
DTSTAMP;VALUE=DATE-TIME:20260426T130000Z
LOCATION:RäZel, Horwerstrasse 14, 6003 Luzern
URL://www.xn--untergrund-blttle-2qb.ch/events/234288/raezel-cafe-raezel-luzern.html
END:VEVENT
BEGIN:VTIMEZONE
TZID:Europe/Zurich
X-LIC-LOCATION:Europe/Zurich
BEGIN:STANDARD
DTSTART;VALUE=DATE-TIME:20260426T130000
TZNAME:CET
TZOFFSETFROM:+0200
TZOFFSETTO:+0100
END:STANDARD
BEGIN:DAYLIGHT
DTSTART;VALUE=DATE-TIME:20260426T130000
TZNAME:CEST
TZOFFSETFROM:+0100
TZOFFSETTO:+0200
END:DAYLIGHT
BEGIN:STANDARD
DTSTART;VALUE=DATE-TIME:20260426T130000
TZNAME:CET
TZOFFSETFROM:+0200
TZOFFSETTO:+0100
END:STANDARD
END:VTIMEZONE
END:VCALENDAR