BEGIN:VCALENDAR
VERSION:2.0
PRODID:-//UB-Event
TZID:Europe/Zurich
X-WR-TIMEZONE:Europe/Zurich
CALSCALE:GREGORIAN
BEGIN:VEVENT
SUMMARY:Runarounds & Neon Bone & Saint Nudes
UID:234262
DTSTART;TZID=Europe/Zurich;VALUE=DATE-TIME:20260619T210000
DTEND;TZID=Europe/Zurich;VALUE=DATE-TIME:20260619T230000
LAST-MODIFIED;TZID=Europe/Zurich;VALUE=DATE-TIME:20260330T060606
DTSTAMP;VALUE=DATE-TIME:20260619T210000Z
LOCATION:Bocksmauer Saal, Bocksmauer 13, 49074 Osnabrück
URL://www.xn--untergrund-blttle-2qb.ch/events/234262/runarounds-neon-bone-saint-nudes-bocksmauer-saal-osnabrueck.html
END:VEVENT
BEGIN:VTIMEZONE
TZID:Europe/Zurich
X-LIC-LOCATION:Europe/Zurich
BEGIN:STANDARD
DTSTART;VALUE=DATE-TIME:20260619T210000
TZNAME:CET
TZOFFSETFROM:+0200
TZOFFSETTO:+0100
END:STANDARD
BEGIN:DAYLIGHT
DTSTART;VALUE=DATE-TIME:20260619T210000
TZNAME:CEST
TZOFFSETFROM:+0100
TZOFFSETTO:+0200
END:DAYLIGHT
BEGIN:STANDARD
DTSTART;VALUE=DATE-TIME:20260619T210000
TZNAME:CET
TZOFFSETFROM:+0200
TZOFFSETTO:+0100
END:STANDARD
END:VTIMEZONE
END:VCALENDAR