BEGIN:VCALENDAR
VERSION:2.0
PRODID:-//UB-Event
TZID:Europe/Zurich
X-WR-TIMEZONE:Europe/Zurich
CALSCALE:GREGORIAN
BEGIN:VEVENT
SUMMARY:MOBB DEEP HAVOC W/ BIG NOYD & DJ L.E.S: THE INFINITE EU / UK TOUR 2026
UID:234238
DTSTART;TZID=Europe/Zurich;VALUE=DATE-TIME:20260429T210000
DTEND;TZID=Europe/Zurich;VALUE=DATE-TIME:20260429T230000
LAST-MODIFIED;TZID=Europe/Zurich;VALUE=DATE-TIME:20260329T063839
DTSTAMP;VALUE=DATE-TIME:20260429T210000Z
LOCATION:Batschkapp, Gwinnerstraße 5, 60388 Frankfurt am Main
URL://www.xn--untergrund-blttle-2qb.ch/events/234238/mobb-deep-havoc-w-big-noyd-dj-l-es-the-infinite-eu-uk-tour-2026-batschkapp-frankfurt-am-main.html
END:VEVENT
BEGIN:VTIMEZONE
TZID:Europe/Zurich
X-LIC-LOCATION:Europe/Zurich
BEGIN:STANDARD
DTSTART;VALUE=DATE-TIME:20260429T210000
TZNAME:CET
TZOFFSETFROM:+0200
TZOFFSETTO:+0100
END:STANDARD
BEGIN:DAYLIGHT
DTSTART;VALUE=DATE-TIME:20260429T210000
TZNAME:CEST
TZOFFSETFROM:+0100
TZOFFSETTO:+0200
END:DAYLIGHT
BEGIN:STANDARD
DTSTART;VALUE=DATE-TIME:20260429T210000
TZNAME:CET
TZOFFSETFROM:+0200
TZOFFSETTO:+0100
END:STANDARD
END:VTIMEZONE
END:VCALENDAR