BEGIN:VCALENDAR
VERSION:2.0
PRODID:-//UB-Event
TZID:Europe/Zurich
X-WR-TIMEZONE:Europe/Zurich
CALSCALE:GREGORIAN
BEGIN:VEVENT
SUMMARY:MTC goes heavy - am 29.04. wirds wild auf der Zülpicher Strasse.
UID:234234
DTSTART;TZID=Europe/Zurich;VALUE=DATE-TIME:20260429T210000
DTEND;TZID=Europe/Zurich;VALUE=DATE-TIME:20260429T230000
LAST-MODIFIED;TZID=Europe/Zurich;VALUE=DATE-TIME:20260329T063839
DTSTAMP;VALUE=DATE-TIME:20260429T210000Z
LOCATION:MTC, Zülpicher Strasse 10, 50674 Köln
URL://www.xn--untergrund-blttle-2qb.ch/events/234234/mtc-goes-heavy-am-29-04-wirds-wild-auf-der-zuelpicher-strasse-mtc-koln.html
END:VEVENT
BEGIN:VTIMEZONE
TZID:Europe/Zurich
X-LIC-LOCATION:Europe/Zurich
BEGIN:STANDARD
DTSTART;VALUE=DATE-TIME:20260429T210000
TZNAME:CET
TZOFFSETFROM:+0200
TZOFFSETTO:+0100
END:STANDARD
BEGIN:DAYLIGHT
DTSTART;VALUE=DATE-TIME:20260429T210000
TZNAME:CEST
TZOFFSETFROM:+0100
TZOFFSETTO:+0200
END:DAYLIGHT
BEGIN:STANDARD
DTSTART;VALUE=DATE-TIME:20260429T210000
TZNAME:CET
TZOFFSETFROM:+0200
TZOFFSETTO:+0100
END:STANDARD
END:VTIMEZONE
END:VCALENDAR