BEGIN:VCALENDAR
VERSION:2.0
PRODID:-//UB-Event
TZID:Europe/Zurich
X-WR-TIMEZONE:Europe/Zurich
CALSCALE:GREGORIAN
BEGIN:VEVENT
SUMMARY:SALÒ – der Anarcho-Pop-Punk-Poet aus Wien - Hardcore ist tot Tour 2026
UID:234204
DTSTART;TZID=Europe/Zurich;VALUE=DATE-TIME:20260429T210000
DTEND;TZID=Europe/Zurich;VALUE=DATE-TIME:20260429T230000
LAST-MODIFIED;TZID=Europe/Zurich;VALUE=DATE-TIME:20260329T063838
DTSTAMP;VALUE=DATE-TIME:20260429T210000Z
LOCATION:Conne Island, Koburger Straße 3, 04277 Leipzig
URL://www.xn--untergrund-blttle-2qb.ch/events/234204/salo-der-anarcho-pop-punk-poet-aus-wien-hardcore-ist-tot-tour-2026-conne-island-leipzig.html
END:VEVENT
BEGIN:VTIMEZONE
TZID:Europe/Zurich
X-LIC-LOCATION:Europe/Zurich
BEGIN:STANDARD
DTSTART;VALUE=DATE-TIME:20260429T210000
TZNAME:CET
TZOFFSETFROM:+0200
TZOFFSETTO:+0100
END:STANDARD
BEGIN:DAYLIGHT
DTSTART;VALUE=DATE-TIME:20260429T210000
TZNAME:CEST
TZOFFSETFROM:+0100
TZOFFSETTO:+0200
END:DAYLIGHT
BEGIN:STANDARD
DTSTART;VALUE=DATE-TIME:20260429T210000
TZNAME:CET
TZOFFSETFROM:+0200
TZOFFSETTO:+0100
END:STANDARD
END:VTIMEZONE
END:VCALENDAR