BEGIN:VCALENDAR
VERSION:2.0
PRODID:-//UB-Event
TZID:Europe/Zurich
X-WR-TIMEZONE:Europe/Zurich
CALSCALE:GREGORIAN
BEGIN:VEVENT
SUMMARY:Akkordeonale 2026 - Internationales Akkordeon Festival Adriana de Los Santos
UID:234179
DTSTART;TZID=Europe/Zurich;VALUE=DATE-TIME:20260428T210000
DTEND;TZID=Europe/Zurich;VALUE=DATE-TIME:20260428T230000
LAST-MODIFIED;TZID=Europe/Zurich;VALUE=DATE-TIME:20260328T063835
DTSTAMP;VALUE=DATE-TIME:20260428T210000Z
LOCATION:Kreuz - Kulturkeller, Schlitzer Strasse 81, 36039 Fulda
URL://www.xn--untergrund-blttle-2qb.ch/events/234179/akkordeonale-2026-internationales-akkordeon-festival-adriana-de-los-santos-kreuz-kulturkeller-fulda.html
END:VEVENT
BEGIN:VTIMEZONE
TZID:Europe/Zurich
X-LIC-LOCATION:Europe/Zurich
BEGIN:STANDARD
DTSTART;VALUE=DATE-TIME:20260428T210000
TZNAME:CET
TZOFFSETFROM:+0200
TZOFFSETTO:+0100
END:STANDARD
BEGIN:DAYLIGHT
DTSTART;VALUE=DATE-TIME:20260428T210000
TZNAME:CEST
TZOFFSETFROM:+0100
TZOFFSETTO:+0200
END:DAYLIGHT
BEGIN:STANDARD
DTSTART;VALUE=DATE-TIME:20260428T210000
TZNAME:CET
TZOFFSETFROM:+0200
TZOFFSETTO:+0100
END:STANDARD
END:VTIMEZONE
END:VCALENDAR