BEGIN:VCALENDAR
VERSION:2.0
PRODID:-//UB-Event
TZID:Europe/Zurich
X-WR-TIMEZONE:Europe/Zurich
CALSCALE:GREGORIAN
BEGIN:VEVENT
SUMMARY:THE HAWAIIANS Höchstgeschwindigkeits-Surf-Pop-Punk vom Planeten Hawaii
UID:234176
DTSTART;TZID=Europe/Zurich;VALUE=DATE-TIME:20260428T210000
DTEND;TZID=Europe/Zurich;VALUE=DATE-TIME:20260428T230000
LAST-MODIFIED;TZID=Europe/Zurich;VALUE=DATE-TIME:20260328T063835
DTSTAMP;VALUE=DATE-TIME:20260428T210000Z
LOCATION:Subkultur, Engelbosteler Damm 87, 30167 Hannover
URL://www.xn--untergrund-blttle-2qb.ch/events/234176/the-hawaiians-hochstgeschwindigkeits-surf-pop-punk-vom-planeten-hawaii-subkultur-hannover.html
END:VEVENT
BEGIN:VTIMEZONE
TZID:Europe/Zurich
X-LIC-LOCATION:Europe/Zurich
BEGIN:STANDARD
DTSTART;VALUE=DATE-TIME:20260428T210000
TZNAME:CET
TZOFFSETFROM:+0200
TZOFFSETTO:+0100
END:STANDARD
BEGIN:DAYLIGHT
DTSTART;VALUE=DATE-TIME:20260428T210000
TZNAME:CEST
TZOFFSETFROM:+0100
TZOFFSETTO:+0200
END:DAYLIGHT
BEGIN:STANDARD
DTSTART;VALUE=DATE-TIME:20260428T210000
TZNAME:CET
TZOFFSETFROM:+0200
TZOFFSETTO:+0100
END:STANDARD
END:VTIMEZONE
END:VCALENDAR