BEGIN:VCALENDAR
VERSION:2.0
PRODID:-//UB-Event
TZID:Europe/Zurich
X-WR-TIMEZONE:Europe/Zurich
CALSCALE:GREGORIAN
BEGIN:VEVENT
SUMMARY:COLOUR HAZE & MY SLEEPING KARMA "The Karma Haze" - Tour 2026 (30
UID:234162
DTSTART;TZID=Europe/Zurich;VALUE=DATE-TIME:20260428T210000
DTEND;TZID=Europe/Zurich;VALUE=DATE-TIME:20260428T230000
LAST-MODIFIED;TZID=Europe/Zurich;VALUE=DATE-TIME:20260328T063835
DTSTAMP;VALUE=DATE-TIME:20260428T210000Z
LOCATION:La Machine Du Moulin Rouge, Boulevard de Clichy 90, 75018 Paris
URL://www.xn--untergrund-blttle-2qb.ch/events/234162/colour-haze-my-sleeping-karma-the-karma-haze-tour-2026-30-la-machine-du-moulin-rouge-paris.html
END:VEVENT
BEGIN:VTIMEZONE
TZID:Europe/Zurich
X-LIC-LOCATION:Europe/Zurich
BEGIN:STANDARD
DTSTART;VALUE=DATE-TIME:20260428T210000
TZNAME:CET
TZOFFSETFROM:+0200
TZOFFSETTO:+0100
END:STANDARD
BEGIN:DAYLIGHT
DTSTART;VALUE=DATE-TIME:20260428T210000
TZNAME:CEST
TZOFFSETFROM:+0100
TZOFFSETTO:+0200
END:DAYLIGHT
BEGIN:STANDARD
DTSTART;VALUE=DATE-TIME:20260428T210000
TZNAME:CET
TZOFFSETFROM:+0200
TZOFFSETTO:+0100
END:STANDARD
END:VTIMEZONE
END:VCALENDAR