BEGIN:VCALENDAR
VERSION:2.0
PRODID:-//UB-Event
TZID:Europe/Zurich
X-WR-TIMEZONE:Europe/Zurich
CALSCALE:GREGORIAN
BEGIN:VEVENT
SUMMARY:VASTUM - [Death Metal - San Francisco, USA] & MORBIFIC - [Death Metal - Kitee, FIN]
UID:234161
DTSTART;TZID=Europe/Zurich;VALUE=DATE-TIME:20260427T210000
DTEND;TZID=Europe/Zurich;VALUE=DATE-TIME:20260427T230000
LAST-MODIFIED;TZID=Europe/Zurich;VALUE=DATE-TIME:20260328T063835
DTSTAMP;VALUE=DATE-TIME:20260427T210000Z
LOCATION:Jugendhaus Ost, Walterasse 2, 38446 Wolfsburg
URL://www.xn--untergrund-blttle-2qb.ch/events/234161/vastum-death-metal-san-francisco-usa-morbific-death-metal-kitee-fin-jugendhaus-ost-wolfsburg.html
END:VEVENT
BEGIN:VTIMEZONE
TZID:Europe/Zurich
X-LIC-LOCATION:Europe/Zurich
BEGIN:STANDARD
DTSTART;VALUE=DATE-TIME:20260427T210000
TZNAME:CET
TZOFFSETFROM:+0200
TZOFFSETTO:+0100
END:STANDARD
BEGIN:DAYLIGHT
DTSTART;VALUE=DATE-TIME:20260427T210000
TZNAME:CEST
TZOFFSETFROM:+0100
TZOFFSETTO:+0200
END:DAYLIGHT
BEGIN:STANDARD
DTSTART;VALUE=DATE-TIME:20260427T210000
TZNAME:CET
TZOFFSETFROM:+0200
TZOFFSETTO:+0100
END:STANDARD
END:VTIMEZONE
END:VCALENDAR