BEGIN:VCALENDAR
VERSION:2.0
PRODID:-//UB-Event
TZID:Europe/Zurich
X-WR-TIMEZONE:Europe/Zurich
CALSCALE:GREGORIAN
BEGIN:VEVENT
SUMMARY:Schulstreik gegen Wehrpflicht
UID:234132
DTSTART;TZID=Europe/Zurich;VALUE=DATE-TIME:20260508T100000
DTEND;TZID=Europe/Zurich;VALUE=DATE-TIME:20260508T120000
LAST-MODIFIED;TZID=Europe/Zurich;VALUE=DATE-TIME:20260328T061201
DTSTAMP;VALUE=DATE-TIME:20260508T100000Z
LOCATION:Willy-Brandt-Platz, Willy-Brandt-Platz, 60311 Frankfurt am Main
URL://www.xn--untergrund-blttle-2qb.ch/events/234132/schulstreik-gegen-wehrpflicht-willy-brandt-platz-frankfurt-am-main.html
END:VEVENT
BEGIN:VTIMEZONE
TZID:Europe/Zurich
X-LIC-LOCATION:Europe/Zurich
BEGIN:STANDARD
DTSTART;VALUE=DATE-TIME:20260508T100000
TZNAME:CET
TZOFFSETFROM:+0200
TZOFFSETTO:+0100
END:STANDARD
BEGIN:DAYLIGHT
DTSTART;VALUE=DATE-TIME:20260508T100000
TZNAME:CEST
TZOFFSETFROM:+0100
TZOFFSETTO:+0200
END:DAYLIGHT
BEGIN:STANDARD
DTSTART;VALUE=DATE-TIME:20260508T100000
TZNAME:CET
TZOFFSETFROM:+0200
TZOFFSETTO:+0100
END:STANDARD
END:VTIMEZONE
END:VCALENDAR