BEGIN:VCALENDAR
VERSION:2.0
PRODID:-//UB-Event
TZID:Europe/Zurich
X-WR-TIMEZONE:Europe/Zurich
CALSCALE:GREGORIAN
BEGIN:VEVENT
SUMMARY:R.M.F.C
UID:234123
DTSTART;TZID=Europe/Zurich;VALUE=DATE-TIME:20261014T210000
DTEND;TZID=Europe/Zurich;VALUE=DATE-TIME:20261014T230000
LAST-MODIFIED;TZID=Europe/Zurich;VALUE=DATE-TIME:20260328T060712
DTSTAMP;VALUE=DATE-TIME:20261014T210000Z
LOCATION:Ebullition, Rue de Vevey 34, 1630 Bulle
URL://www.xn--untergrund-blttle-2qb.ch/events/234123/r-m-fc-ebullition-bulle.html
END:VEVENT
BEGIN:VTIMEZONE
TZID:Europe/Zurich
X-LIC-LOCATION:Europe/Zurich
BEGIN:STANDARD
DTSTART;VALUE=DATE-TIME:20261014T210000
TZNAME:CET
TZOFFSETFROM:+0200
TZOFFSETTO:+0100
END:STANDARD
BEGIN:DAYLIGHT
DTSTART;VALUE=DATE-TIME:20261014T210000
TZNAME:CEST
TZOFFSETFROM:+0100
TZOFFSETTO:+0200
END:DAYLIGHT
BEGIN:STANDARD
DTSTART;VALUE=DATE-TIME:20261014T210000
TZNAME:CET
TZOFFSETFROM:+0200
TZOFFSETTO:+0100
END:STANDARD
END:VTIMEZONE
END:VCALENDAR