BEGIN:VCALENDAR
VERSION:2.0
PRODID:-//UB-Event
TZID:Europe/Zurich
X-WR-TIMEZONE:Europe/Zurich
CALSCALE:GREGORIAN
BEGIN:VEVENT
SUMMARY:Witch Fever FEVEREATEN UK & EUROPE TOUR 2026 Doom Punk / Grunge Metal
UID:234100
DTSTART;TZID=Europe/Zurich;VALUE=DATE-TIME:20260427T210000
DTEND;TZID=Europe/Zurich;VALUE=DATE-TIME:20260427T230000
LAST-MODIFIED;TZID=Europe/Zurich;VALUE=DATE-TIME:20260327T063837
DTSTAMP;VALUE=DATE-TIME:20260427T210000Z
LOCATION:Schlachthof Wiesbaden, Murnaustraße, 65189 Wiesbaden
URL://www.xn--untergrund-blttle-2qb.ch/events/234100/witch-fever-fevereaten-uk-europe-tour-2026-doom-punk-grunge-metal-schlachthof-wiesbaden-wiesbaden.html
END:VEVENT
BEGIN:VTIMEZONE
TZID:Europe/Zurich
X-LIC-LOCATION:Europe/Zurich
BEGIN:STANDARD
DTSTART;VALUE=DATE-TIME:20260427T210000
TZNAME:CET
TZOFFSETFROM:+0200
TZOFFSETTO:+0100
END:STANDARD
BEGIN:DAYLIGHT
DTSTART;VALUE=DATE-TIME:20260427T210000
TZNAME:CEST
TZOFFSETFROM:+0100
TZOFFSETTO:+0200
END:DAYLIGHT
BEGIN:STANDARD
DTSTART;VALUE=DATE-TIME:20260427T210000
TZNAME:CET
TZOFFSETFROM:+0200
TZOFFSETTO:+0100
END:STANDARD
END:VTIMEZONE
END:VCALENDAR