BEGIN:VCALENDAR
VERSION:2.0
PRODID:-//UB-Event
TZID:Europe/Zurich
X-WR-TIMEZONE:Europe/Zurich
CALSCALE:GREGORIAN
BEGIN:VEVENT
SUMMARY:FLO NAEGELI (D) R&B, Soul, Funk
UID:234089
DTSTART;TZID=Europe/Zurich;VALUE=DATE-TIME:20260427T210000
DTEND;TZID=Europe/Zurich;VALUE=DATE-TIME:20260427T230000
LAST-MODIFIED;TZID=Europe/Zurich;VALUE=DATE-TIME:20260327T063836
DTSTAMP;VALUE=DATE-TIME:20260427T210000Z
LOCATION:Nochtwache, Bernhard-Nocht-Straße 69a, 20359 Hamburg
URL://www.xn--untergrund-blttle-2qb.ch/events/234089/flo-naegeli-d-rb-soul-funk-nochtwache-hamburg.html
END:VEVENT
BEGIN:VTIMEZONE
TZID:Europe/Zurich
X-LIC-LOCATION:Europe/Zurich
BEGIN:STANDARD
DTSTART;VALUE=DATE-TIME:20260427T210000
TZNAME:CET
TZOFFSETFROM:+0200
TZOFFSETTO:+0100
END:STANDARD
BEGIN:DAYLIGHT
DTSTART;VALUE=DATE-TIME:20260427T210000
TZNAME:CEST
TZOFFSETFROM:+0100
TZOFFSETTO:+0200
END:DAYLIGHT
BEGIN:STANDARD
DTSTART;VALUE=DATE-TIME:20260427T210000
TZNAME:CET
TZOFFSETFROM:+0200
TZOFFSETTO:+0100
END:STANDARD
END:VTIMEZONE
END:VCALENDAR