BEGIN:VCALENDAR
VERSION:2.0
PRODID:-//UB-Event
TZID:Europe/Zurich
X-WR-TIMEZONE:Europe/Zurich
CALSCALE:GREGORIAN
BEGIN:VEVENT
SUMMARY:Atomkraftwerke im Krieg
UID:234061
DTSTART;TZID=Europe/Zurich;VALUE=DATE-TIME:20260426T170000
DTEND;TZID=Europe/Zurich;VALUE=DATE-TIME:20260426T190000
LAST-MODIFIED;TZID=Europe/Zurich;VALUE=DATE-TIME:20260328T054829
DTSTAMP;VALUE=DATE-TIME:20260426T170000Z
LOCATION:Kinemathek, Lindencarré, 76133 Karlsruhe
URL://www.xn--untergrund-blttle-2qb.ch/events/234061/atomkraftwerke-im-krieg-kinemathek-karlsruhe.html
END:VEVENT
BEGIN:VTIMEZONE
TZID:Europe/Zurich
X-LIC-LOCATION:Europe/Zurich
BEGIN:STANDARD
DTSTART;VALUE=DATE-TIME:20260426T170000
TZNAME:CET
TZOFFSETFROM:+0200
TZOFFSETTO:+0100
END:STANDARD
BEGIN:DAYLIGHT
DTSTART;VALUE=DATE-TIME:20260426T170000
TZNAME:CEST
TZOFFSETFROM:+0100
TZOFFSETTO:+0200
END:DAYLIGHT
BEGIN:STANDARD
DTSTART;VALUE=DATE-TIME:20260426T170000
TZNAME:CET
TZOFFSETFROM:+0200
TZOFFSETTO:+0100
END:STANDARD
END:VTIMEZONE
END:VCALENDAR