BEGIN:VCALENDAR
VERSION:2.0
PRODID:-//UB-Event
TZID:Europe/Zurich
X-WR-TIMEZONE:Europe/Zurich
CALSCALE:GREGORIAN
BEGIN:VEVENT
SUMMARY:singOUT Mannheim 2026 Das stimmgewaltige Gospelkonzert zum Mitsingen und Mitswingen
UID:233981
DTSTART;TZID=Europe/Zurich;VALUE=DATE-TIME:20260426T210000
DTEND;TZID=Europe/Zurich;VALUE=DATE-TIME:20260426T230000
LAST-MODIFIED;TZID=Europe/Zurich;VALUE=DATE-TIME:20260326T063836
DTSTAMP;VALUE=DATE-TIME:20260426T210000Z
LOCATION:Capitol, Waldhofstraße 2a, 2b, 68169 Mannheim
URL://www.xn--untergrund-blttle-2qb.ch/events/233981/singout-mannheim-2026-das-stimmgewaltige-gospelkonzert-zum-mitsingen-und-mitswingen-capitol-mannheim.html
END:VEVENT
BEGIN:VTIMEZONE
TZID:Europe/Zurich
X-LIC-LOCATION:Europe/Zurich
BEGIN:STANDARD
DTSTART;VALUE=DATE-TIME:20260426T210000
TZNAME:CET
TZOFFSETFROM:+0200
TZOFFSETTO:+0100
END:STANDARD
BEGIN:DAYLIGHT
DTSTART;VALUE=DATE-TIME:20260426T210000
TZNAME:CEST
TZOFFSETFROM:+0100
TZOFFSETTO:+0200
END:DAYLIGHT
BEGIN:STANDARD
DTSTART;VALUE=DATE-TIME:20260426T210000
TZNAME:CET
TZOFFSETFROM:+0200
TZOFFSETTO:+0100
END:STANDARD
END:VTIMEZONE
END:VCALENDAR