BEGIN:VCALENDAR
VERSION:2.0
PRODID:-//UB-Event
TZID:Europe/Zurich
X-WR-TIMEZONE:Europe/Zurich
CALSCALE:GREGORIAN
BEGIN:VEVENT
SUMMARY:THE DIRTY DENIMS (Eindhoven, NL) Ein Mix aus AC/DC, KISS, Joan Jett, The
UID:233902
DTSTART;TZID=Europe/Zurich;VALUE=DATE-TIME:20260425T210000
DTEND;TZID=Europe/Zurich;VALUE=DATE-TIME:20260425T230000
LAST-MODIFIED;TZID=Europe/Zurich;VALUE=DATE-TIME:20260326T063836
DTSTAMP;VALUE=DATE-TIME:20260425T210000Z
LOCATION:AJZ Wermelskirchen, Am Bahndamm 2, 42929 Wermelskirchen
URL://www.xn--untergrund-blttle-2qb.ch/events/233902/the-dirty-denims-eindhoven-nl-ein-mix-aus-ac-dc-kiss-joan-jett-the-ajz-wermelskirchen-wermelskirchen.html
END:VEVENT
BEGIN:VTIMEZONE
TZID:Europe/Zurich
X-LIC-LOCATION:Europe/Zurich
BEGIN:STANDARD
DTSTART;VALUE=DATE-TIME:20260425T210000
TZNAME:CET
TZOFFSETFROM:+0200
TZOFFSETTO:+0100
END:STANDARD
BEGIN:DAYLIGHT
DTSTART;VALUE=DATE-TIME:20260425T210000
TZNAME:CEST
TZOFFSETFROM:+0100
TZOFFSETTO:+0200
END:DAYLIGHT
BEGIN:STANDARD
DTSTART;VALUE=DATE-TIME:20260425T210000
TZNAME:CET
TZOFFSETFROM:+0200
TZOFFSETTO:+0100
END:STANDARD
END:VTIMEZONE
END:VCALENDAR