BEGIN:VCALENDAR
VERSION:2.0
PRODID:-//UB-Event
TZID:Europe/Zurich
X-WR-TIMEZONE:Europe/Zurich
CALSCALE:GREGORIAN
BEGIN:VEVENT
SUMMARY:The Originators & Funkbetrieb New Style Northern Soul aus Amsterdam und grooviger
UID:233897
DTSTART;TZID=Europe/Zurich;VALUE=DATE-TIME:20260425T210000
DTEND;TZID=Europe/Zurich;VALUE=DATE-TIME:20260425T230000
LAST-MODIFIED;TZID=Europe/Zurich;VALUE=DATE-TIME:20260326T063836
DTSTAMP;VALUE=DATE-TIME:20260425T210000Z
LOCATION:Nexus, Frankfurter Strasse 253, 38122 Braunschweig
URL://www.xn--untergrund-blttle-2qb.ch/events/233897/the-originators-funkbetrieb-new-style-northern-soul-aus-amsterdam-und-grooviger-nexus-braunschweig.html
END:VEVENT
BEGIN:VTIMEZONE
TZID:Europe/Zurich
X-LIC-LOCATION:Europe/Zurich
BEGIN:STANDARD
DTSTART;VALUE=DATE-TIME:20260425T210000
TZNAME:CET
TZOFFSETFROM:+0200
TZOFFSETTO:+0100
END:STANDARD
BEGIN:DAYLIGHT
DTSTART;VALUE=DATE-TIME:20260425T210000
TZNAME:CEST
TZOFFSETFROM:+0100
TZOFFSETTO:+0200
END:DAYLIGHT
BEGIN:STANDARD
DTSTART;VALUE=DATE-TIME:20260425T210000
TZNAME:CET
TZOFFSETFROM:+0200
TZOFFSETTO:+0100
END:STANDARD
END:VTIMEZONE
END:VCALENDAR