BEGIN:VCALENDAR
VERSION:2.0
PRODID:-//UB-Event
TZID:Europe/Zurich
X-WR-TIMEZONE:Europe/Zurich
CALSCALE:GREGORIAN
BEGIN:VEVENT
SUMMARY:Smile and Burn Berliner Punkband. SUPPORT: ES BRENNT
UID:233895
DTSTART;TZID=Europe/Zurich;VALUE=DATE-TIME:20260425T210000
DTEND;TZID=Europe/Zurich;VALUE=DATE-TIME:20260425T230000
LAST-MODIFIED;TZID=Europe/Zurich;VALUE=DATE-TIME:20260326T063835
DTSTAMP;VALUE=DATE-TIME:20260425T210000Z
LOCATION:Tower, Herdentorsteinweg 7a, 28195 Bremen
URL://www.xn--untergrund-blttle-2qb.ch/events/233895/smile-and-burn-berliner-punkband-support-es-brennt-tower-bremen.html
END:VEVENT
BEGIN:VTIMEZONE
TZID:Europe/Zurich
X-LIC-LOCATION:Europe/Zurich
BEGIN:STANDARD
DTSTART;VALUE=DATE-TIME:20260425T210000
TZNAME:CET
TZOFFSETFROM:+0200
TZOFFSETTO:+0100
END:STANDARD
BEGIN:DAYLIGHT
DTSTART;VALUE=DATE-TIME:20260425T210000
TZNAME:CEST
TZOFFSETFROM:+0100
TZOFFSETTO:+0200
END:DAYLIGHT
BEGIN:STANDARD
DTSTART;VALUE=DATE-TIME:20260425T210000
TZNAME:CET
TZOFFSETFROM:+0200
TZOFFSETTO:+0100
END:STANDARD
END:VTIMEZONE
END:VCALENDAR