BEGIN:VCALENDAR
VERSION:2.0
PRODID:-//UB-Event
TZID:Europe/Zurich
X-WR-TIMEZONE:Europe/Zurich
CALSCALE:GREGORIAN
BEGIN:VEVENT
SUMMARY:Recluses Fest: Les Svinkels / Billy Ze Kick / Les Balttes
UID:233891
DTSTART;TZID=Europe/Zurich;VALUE=DATE-TIME:20261010T210000
DTEND;TZID=Europe/Zurich;VALUE=DATE-TIME:20261010T230000
LAST-MODIFIED;TZID=Europe/Zurich;VALUE=DATE-TIME:20260327T055521
DTSTAMP;VALUE=DATE-TIME:20261010T210000Z
LOCATION:L'Usine, Place des Volontaires 4, 1204 Genf
URL://www.xn--untergrund-blttle-2qb.ch/events/233891/recluses-fest-les-svinkels-billy-ze-kick-les-balttes-lusine-genf.html
END:VEVENT
BEGIN:VTIMEZONE
TZID:Europe/Zurich
X-LIC-LOCATION:Europe/Zurich
BEGIN:STANDARD
DTSTART;VALUE=DATE-TIME:20261010T210000
TZNAME:CET
TZOFFSETFROM:+0200
TZOFFSETTO:+0100
END:STANDARD
BEGIN:DAYLIGHT
DTSTART;VALUE=DATE-TIME:20261010T210000
TZNAME:CEST
TZOFFSETFROM:+0100
TZOFFSETTO:+0200
END:DAYLIGHT
BEGIN:STANDARD
DTSTART;VALUE=DATE-TIME:20261010T210000
TZNAME:CET
TZOFFSETFROM:+0200
TZOFFSETTO:+0100
END:STANDARD
END:VTIMEZONE
END:VCALENDAR